BEGIN:VCALENDAR
VERSION:2.0
PRODID:-//The Wright Way Foundation - ECPv6.15.20//NONSGML v1.0//EN
CALSCALE:GREGORIAN
METHOD:PUBLISH
X-WR-CALNAME:The Wright Way Foundation
X-ORIGINAL-URL:https://thewrightwayfoundation50.org
X-WR-CALDESC:Events for The Wright Way Foundation
REFRESH-INTERVAL;VALUE=DURATION:PT1H
X-Robots-Tag:noindex
X-PUBLISHED-TTL:PT1H
BEGIN:VTIMEZONE
TZID:America/Chicago
BEGIN:DAYLIGHT
TZOFFSETFROM:-0600
TZOFFSETTO:-0500
TZNAME:CDT
DTSTART:20220313T080000
END:DAYLIGHT
BEGIN:STANDARD
TZOFFSETFROM:-0500
TZOFFSETTO:-0600
TZNAME:CST
DTSTART:20221106T070000
END:STANDARD
BEGIN:DAYLIGHT
TZOFFSETFROM:-0600
TZOFFSETTO:-0500
TZNAME:CDT
DTSTART:20230312T080000
END:DAYLIGHT
BEGIN:STANDARD
TZOFFSETFROM:-0500
TZOFFSETTO:-0600
TZNAME:CST
DTSTART:20231105T070000
END:STANDARD
BEGIN:DAYLIGHT
TZOFFSETFROM:-0600
TZOFFSETTO:-0500
TZNAME:CDT
DTSTART:20240310T080000
END:DAYLIGHT
BEGIN:STANDARD
TZOFFSETFROM:-0500
TZOFFSETTO:-0600
TZNAME:CST
DTSTART:20241103T070000
END:STANDARD
BEGIN:DAYLIGHT
TZOFFSETFROM:-0600
TZOFFSETTO:-0500
TZNAME:CDT
DTSTART:20250309T080000
END:DAYLIGHT
BEGIN:STANDARD
TZOFFSETFROM:-0500
TZOFFSETTO:-0600
TZNAME:CST
DTSTART:20251102T070000
END:STANDARD
BEGIN:DAYLIGHT
TZOFFSETFROM:-0600
TZOFFSETTO:-0500
TZNAME:CDT
DTSTART:20260308T080000
END:DAYLIGHT
BEGIN:STANDARD
TZOFFSETFROM:-0500
TZOFFSETTO:-0600
TZNAME:CST
DTSTART:20261101T070000
END:STANDARD
END:VTIMEZONE
BEGIN:VTIMEZONE
TZID:America/Los_Angeles
BEGIN:DAYLIGHT
TZOFFSETFROM:-0800
TZOFFSETTO:-0700
TZNAME:PDT
DTSTART:20230312T100000
END:DAYLIGHT
BEGIN:STANDARD
TZOFFSETFROM:-0700
TZOFFSETTO:-0800
TZNAME:PST
DTSTART:20231105T090000
END:STANDARD
BEGIN:DAYLIGHT
TZOFFSETFROM:-0800
TZOFFSETTO:-0700
TZNAME:PDT
DTSTART:20240310T100000
END:DAYLIGHT
BEGIN:STANDARD
TZOFFSETFROM:-0700
TZOFFSETTO:-0800
TZNAME:PST
DTSTART:20241103T090000
END:STANDARD
BEGIN:DAYLIGHT
TZOFFSETFROM:-0800
TZOFFSETTO:-0700
TZNAME:PDT
DTSTART:20250309T100000
END:DAYLIGHT
BEGIN:STANDARD
TZOFFSETFROM:-0700
TZOFFSETTO:-0800
TZNAME:PST
DTSTART:20251102T090000
END:STANDARD
END:VTIMEZONE
BEGIN:VEVENT
DTSTART;TZID=America/Chicago:20250614T180000
DTEND;TZID=America/Chicago:20250614T210000
DTSTAMP:20260421T034748
CREATED:20250305T234109Z
LAST-MODIFIED:20250404T152839Z
UID:700-1749924000-1749934800@thewrightwayfoundation50.org
SUMMARY:Olive Branch vs Byhalia Charity Alumni Basketball Game
DESCRIPTION:Get ready for the most anticipated rivalry matchup in North Mississippi history! The Olive Branch Conquistadors vs The Byhalia Indians. \nAll ages. Free parking. Doors open at 5:15pm \nChildren 2 and under are free. \nBuy Tickets Here
URL:https://thewrightwayfoundation50.org/event/olive-branch-vs-byhalia-charity-alumni-basketball-game/
LOCATION:Olive Branch High School\, 9366 East Sandidge Road\, Olive Branch\, MS\, 38654\, United States
ATTACH;FMTTYPE=image/png:https://thewrightwayfoundation50.org/wp-content/uploads/2025/03/OBHS-Alumni-Game-2025.png
END:VEVENT
BEGIN:VEVENT
DTSTART;TZID=America/Los_Angeles:20240706T180000
DTEND;TZID=America/Los_Angeles:20240706T220000
DTSTAMP:20260421T034748
CREATED:20240207T161429Z
LAST-MODIFIED:20240408T172835Z
UID:668-1720288800-1720303200@thewrightwayfoundation50.org
SUMMARY:Olive Branch vs. Holly Springs Charity Alumni Basketball Game
DESCRIPTION:Join us for an action-packed evening of hoops as the Olive Branch High School alumni take on the Holly Springs High School alumni in a thrilling basketball showdown! This exciting event will be held on Saturday\, July 6\, 2024\, at Olive Branch High School Charlie Bibbs Gymnasium. \nCome and support your favorite players as they showcase their skills on the court and relive their glory days. It’s a fantastic opportunity to catch up with old friends\, cheer for your favorite team\, and enjoy the competitive spirit of this charity game. \nBe prepared to witness electrifying dunks\, pinpoint three-pointers\, and intense rivalries reignited. The atmosphere will be buzzing with excitement as the players battle it out for bragging rights and to raise funds for a worthy cause. \nSo mark your calendars and gather your friends and family for an unforgettable night of basketball. Get ready to cheer\, laugh\, and immerse yourself in the nostalgia of this epic alumni game. We can’t wait to see you there! \nBUY TICKETS HERE
URL:https://thewrightwayfoundation50.org/event/olive-branch-vs-holly-springs-charity-alumni-basketball-game/
LOCATION:Olive Branch High School: Charlie Bibbs Gymnasium
ATTACH;FMTTYPE=image/jpeg:https://thewrightwayfoundation50.org/wp-content/uploads/2024/02/image_123650291.jpg
END:VEVENT
BEGIN:VEVENT
DTSTART;TZID=America/Chicago:20230623T180000
DTEND;TZID=America/Chicago:20230623T200000
DTSTAMP:20260421T034748
CREATED:20230615T185346Z
LAST-MODIFIED:20230712T190321Z
UID:617-1687543200-1687550400@thewrightwayfoundation50.org
SUMMARY:The OBHS Basketball Alumni Game
DESCRIPTION:Olive Branch MS!! I’m extremely excited to once again invite you to join me this summer as we have our 2nd Annual OBHS Alumni Charity Basketball Game!! \nI can’t wait to bring another sold-out event to our city for an amazing cause and highly anticipated event! A talented group of Quistor legends and I will re-showcase our skills on the court. We’re bringing some new faces\, new energy\, exciting entertainment\, and a great opportunity for us to fellowship as we raise funds for our alma mater’s athletics program. Last year was INCREDIBLE – I promise this year will be UNFORGETTABLE! \nSee you guys soon!! #RunItBack #OBHS #AlumniGame #OBPride \n– KJ Wright \nBUY TICKETS
URL:https://thewrightwayfoundation50.org/event/the-obhs-basketball-alumni-game/
LOCATION:Olive Branch High School\, 9366 East Sandidge Road\, Olive Branch\, MS\, 38654\, United States
ATTACH;FMTTYPE=image/jpeg:https://thewrightwayfoundation50.org/wp-content/uploads/2023/05/OBHS_centercourt_edit.jpeg
END:VEVENT
END:VCALENDAR